BEGIN:VCALENDAR
VERSION:2.0
PRODID:-//Dante Alighieri Society in Hong Kong - ECPv5.5.0//NONSGML v1.0//EN
CALSCALE:GREGORIAN
METHOD:PUBLISH
X-WR-CALNAME:Dante Alighieri Society in Hong Kong
X-ORIGINAL-URL:https://ladante.cc
X-WR-CALDESC:Events for Dante Alighieri Society in Hong Kong
BEGIN:VTIMEZONE
TZID:Asia/Shanghai
BEGIN:STANDARD
TZOFFSETFROM:+0800
TZOFFSETTO:+0800
TZNAME:CST
DTSTART:20180101T000000
END:STANDARD
END:VTIMEZONE
BEGIN:VEVENT
DTSTART;TZID=Asia/Shanghai:20181130T060000
DTEND;TZID=Asia/Shanghai:20181130T193000
DTSTAMP:20260424T210531
CREATED:20181106T050703Z
LAST-MODIFIED:20181106T112856Z
UID:2876-1543557600-1543606200@ladante.cc
SUMMARY:An Italian Night with the Italian Consul General Clemente Contestabile
DESCRIPTION:We proudly present to you a nice and informal talk with the Italian Consul General in Hong Kong and Macau\, Clemente Contestabile. \nMr. Contestabile arrived in Hong Kong in August 2018 and he has now made Hong Kong his new home. He embarked on a brilliant career in the Italian Ministry of Foreign Affair from Beijing to New York and now to this dynamic city – Hong Kong.  He strives to create a synergy between the Italian and local communities. Therefore\, it is a great honor to have him as a guest here in our school. \nDon’t miss this opportunity to meet him. \nLimited seats\, please reserve yours! \nPlace: Comitato della Dante Alighieri di Hong Kong \nDate: 30 Nov 2018 (Friday) \nTime: 18:00 – 19:30 \nFree entry (limited seats) \nFor registration\, please click HERE
URL:https://ladante.cc/events/an-italian-night-with-the-italian-consul-general-clemente-contestabile/
LOCATION:Dante Alighieri Society in Hong Kong\, Room 702\, 7/F Hong Kong Arts Centre\, 2 Harbour Road\, Wanchai\, Hong Kong
ATTACH;FMTTYPE=image/jpeg:https://ladante.cc/wp-content/uploads/2018/11/Copy-of-An-Italian-Night-4.jpg
ORGANIZER;CN="Dante%20Alighieri%20Society%20in%20Hong%20Kong":MAILTO:dantealighieri@ladante.cc
END:VEVENT
END:VCALENDAR