BEGIN:VCALENDAR
VERSION:2.0
PRODID:-//Dante Alighieri Society in Hong Kong - ECPv5.5.0//NONSGML v1.0//EN
CALSCALE:GREGORIAN
METHOD:PUBLISH
X-WR-CALNAME:Dante Alighieri Society in Hong Kong
X-ORIGINAL-URL:https://ladante.cc
X-WR-CALDESC:Events for Dante Alighieri Society in Hong Kong
BEGIN:VTIMEZONE
TZID:Asia/Shanghai
BEGIN:STANDARD
TZOFFSETFROM:+0800
TZOFFSETTO:+0800
TZNAME:CST
DTSTART:20180101T000000
END:STANDARD
END:VTIMEZONE
BEGIN:VEVENT
DTSTART;TZID=Asia/Shanghai:20181012T190000
DTEND;TZID=Asia/Shanghai:20181012T203000
DTSTAMP:20260424T213858
CREATED:20180817T083142Z
LAST-MODIFIED:20180912T025541Z
UID:2783-1539370800-1539376200@ladante.cc
SUMMARY:Art Workshop - Italian Contemporary Art
DESCRIPTION:We are pleased to invite you to join our art workshop “Italian Contemporary Art”. \nWe will make a journey through the modern art flow of the 20th and 21th centuries: from the “painting of light” of Enrico Castellani and his manipulating surfaces; through the Trans-avant-garde artists Francesco Clemente and Mimmo Paladino who turned their attention back to the traditional act of painting; until the soloist “joker” artist Maurizio Cattelan and his dark humour. \nDate: 12 Oct 2018 \nTime: 19:00 \nVenue: Dante Alighieri Society in Hong Kong – 1/F Honest Building\, 9-11 Leighton Road\, Causeway Bay \nSpeaker: Marta Marotta \nFee: HK$ 100 (HK$80 for DA Members and Students) \nRegistration: https://www.eventbrite.hk/e/art-workshop-italian-contemporary-art-tickets-48641085797
URL:https://ladante.cc/events/art-workshop-italian-contemporary-art/
LOCATION:Dante Alighieri Society in Hong Kong\, Room 702\, 7/F Hong Kong Arts Centre\, 2 Harbour Road\, Wanchai\, Hong Kong
ATTACH;FMTTYPE=image/jpeg:https://ladante.cc/wp-content/uploads/2018/08/Locandina-Rett-QR-1.jpg
ORGANIZER;CN="Dante%20Alighieri%20Society%20in%20Hong%20Kong":MAILTO:dantealighieri@ladante.cc
END:VEVENT
END:VCALENDAR