BEGIN:VCALENDAR
VERSION:2.0
PRODID:-//Dante Alighieri Society in Hong Kong - ECPv5.5.0//NONSGML v1.0//EN
CALSCALE:GREGORIAN
METHOD:PUBLISH
X-WR-CALNAME:Dante Alighieri Society in Hong Kong
X-ORIGINAL-URL:https://ladante.cc
X-WR-CALDESC:Events for Dante Alighieri Society in Hong Kong
BEGIN:VTIMEZONE
TZID:Asia/Shanghai
BEGIN:STANDARD
TZOFFSETFROM:+0800
TZOFFSETTO:+0800
TZNAME:CST
DTSTART:20180101T000000
END:STANDARD
END:VTIMEZONE
BEGIN:VEVENT
DTSTART;TZID=Asia/Shanghai:20180706T190000
DTEND;TZID=Asia/Shanghai:20180706T210000
DTSTAMP:20260424T230828
CREATED:20180626T085701Z
LAST-MODIFIED:20180703T053821Z
UID:2564-1530903600-1530910800@ladante.cc
SUMMARY:Extra Virgin Olive Oil Master Class
DESCRIPTION:Experience a unique journey in the Wonders of Olive Oil with blind tasting and lecture from “history\, production to market” presented by Averardo Borghini Baldovinetti\, olive oil and wine producer in Tuscany\, Italy. \nAverardo is Managing Director of Vino e Finanza HK\, he is based in Hong Kong and is a prominent figure in the world of fine wine. He consults to private wine collectors\, organises wine tasting events and as a brand ambassador for Asia\, he represents his family who has been producing wine and olive oil for over six centuries in their estate located in Arezzo\, Tuscany. \nEach participant will receive a FREE bottle of Tuscan Extra virgin Olive Oil! (Value: $180\, 500ml) \nSign up now!! \nMore info: https://www.eventbrite.hk/e/extravirgin-olive-oil-masterclass-tickets-47252508525?aff=erelpanelorg
URL:https://ladante.cc/events/extra-virgin-olive-oil-master-class/
LOCATION:Dante Alighieri Society in Hong Kong\, Room 702\, 7/F Hong Kong Arts Centre\, 2 Harbour Road\, Wanchai\, Hong Kong
ORGANIZER;CN="Dante%20Alighieri%20Society%20in%20Hong%20Kong":MAILTO:dantealighieri@ladante.cc
END:VEVENT
END:VCALENDAR