BEGIN:VCALENDAR
VERSION:2.0
PRODID:-//Dante Alighieri Society in Hong Kong - ECPv5.5.0//NONSGML v1.0//EN
CALSCALE:GREGORIAN
METHOD:PUBLISH
X-WR-CALNAME:Dante Alighieri Society in Hong Kong
X-ORIGINAL-URL:https://ladante.cc
X-WR-CALDESC:Events for Dante Alighieri Society in Hong Kong
BEGIN:VTIMEZONE
TZID:Asia/Shanghai
BEGIN:STANDARD
TZOFFSETFROM:+0800
TZOFFSETTO:+0800
TZNAME:CST
DTSTART:20180101T000000
END:STANDARD
END:VTIMEZONE
BEGIN:VEVENT
DTSTART;TZID=Asia/Shanghai:20181214T183000
DTEND;TZID=Asia/Shanghai:20181214T203000
DTSTAMP:20260423T185413
CREATED:20181130T060546Z
LAST-MODIFIED:20181130T060546Z
UID:2896-1544812200-1544819400@ladante.cc
SUMMARY:Festa di Natale 2018
DESCRIPTION:It’s that time of the year when… \nYou wrap your presents\, bring your joy and party with us!\nOur annual Christmas celebration is the best occasion to share happiness and laugh here at Dante Alighieri Society in Hong Kong. \nAs usual\, we will party in …Italian style! \nWe will play the famous Tombola (Italian bingo) and other traditional games and there will be a fantastic lucky draw with amazing prizes. One ticket costs only HK$50 with great Italian prizes!!! \nFree admission! Each participant should bring a wrapped gift valued at HK$100 to participate in our Christmas Party! \nThe gift should be related to Italy. We will offer snacks and delicious Italian wines! \nIt’s a good chance to know more about Italian culture\, to meet other students and to practice your Italian. \nBuon Natale! \nDate: Fri\, 14 Dec 2018\nTime: 18:30 – 20:30\nVenue: Dante Alighieri Society in Hong Kong\, 1/F Honest Building\, 9 – 11 Leighton Road\, Causeway Bay
URL:https://ladante.cc/events/festa-di-natale-2018/
LOCATION:Dante Alighieri Society in Hong Kong\, Room 702\, 7/F Hong Kong Arts Centre\, 2 Harbour Road\, Wanchai\, Hong Kong
ATTACH;FMTTYPE=image/jpeg:https://ladante.cc/wp-content/uploads/2018/11/Festa-di-natale-2018-1.jpg
ORGANIZER;CN="Dante%20Alighieri%20Society%20in%20Hong%20Kong":MAILTO:dantealighieri@ladante.cc
END:VEVENT
END:VCALENDAR