BEGIN:VCALENDAR
VERSION:2.0
PRODID:-//Dante Alighieri Society in Hong Kong - ECPv5.5.0//NONSGML v1.0//EN
CALSCALE:GREGORIAN
METHOD:PUBLISH
X-WR-CALNAME:Dante Alighieri Society in Hong Kong
X-ORIGINAL-URL:https://ladante.cc
X-WR-CALDESC:Events for Dante Alighieri Society in Hong Kong
BEGIN:VTIMEZONE
TZID:Asia/Shanghai
BEGIN:STANDARD
TZOFFSETFROM:+0800
TZOFFSETTO:+0800
TZNAME:CST
DTSTART:20180101T000000
END:STANDARD
END:VTIMEZONE
BEGIN:VEVENT
DTSTART;TZID=Asia/Shanghai:20180427T190000
DTEND;TZID=Asia/Shanghai:20180706T210000
DTSTAMP:20260424T231158
CREATED:20180427T051649Z
LAST-MODIFIED:20180427T051827Z
UID:2486-1524855600-1530910800@ladante.cc
SUMMARY:Il coro della Dante (Italian Choir)
DESCRIPTION:It’s time to sing!!!\nAs you might know Italian is the language of music. Operas\, Bel canto\, Neapolitan Songs\, they are all born to be sung in Italian. That is why\, with the help of the Italian music teacher Giusi Rinaldi\, we have decided to start the first and unique Choir in Italian!\nOpen to everyone who loves to sing\, this workshop will let you get inside the true beauty of Italian Singing!\nDon’t miss this opportunity! \nAbout the instructor:\nGiusi Rinaldi has been playing Piano since the age of six. She graduates from Trieste’s conservatory in 2005 and since then she has been always working as Piano and Music teacher.\nIn 2014 she opened her own Music school in Rome where she thought piano\, solfeggio and choir to many students between 2 and 70 years old. She worked in a public primary school in Rome\, “Scuola Primaria Villaggio Olimpico” as a choir teacher. She also supports many students (also members of Santa Cecilia’s Coir) with private Choir lessons.\nSince September 2017 she moved to Hong Kong. \nAbout the course:\nThe course is open to everyone who wants to have fun and learn some technical singing skills. No Italian knowledge is required\, no previous music knowledge is required.\nThe List of songs will be chosen by the instructor in accordance with the participants’ voice characteristic. \nDates: 27/04 – 11/05 – 18/05 – 25/05 – 01/06 – 08/06 – 15/06 – 22/06 – 29/06 – 06/07\nPlace: ABC MUSIC HONG KONG Room D\, 5/F\, Prosperous Commercial Building\, NO.54 Jardine’s Bazaar\, Causeway Bay\, Hong Kong\nFees: HK 4000  (10% off for DA members) – 20 hours workshop \nREGISTRATION: https://goo.gl/forms/rxQGay1LuEbiPBSh1
URL:https://ladante.cc/events/il-coro-della-dante-italian-choir/
ORGANIZER;CN="Dante%20Alighieri%20Society%20in%20Hong%20Kong":MAILTO:dantealighieri@ladante.cc
END:VEVENT
END:VCALENDAR