BEGIN:VCALENDAR
VERSION:2.0
PRODID:-//Dante Alighieri Society in Hong Kong - ECPv5.5.0//NONSGML v1.0//EN
CALSCALE:GREGORIAN
METHOD:PUBLISH
X-WR-CALNAME:Dante Alighieri Society in Hong Kong
X-ORIGINAL-URL:https://ladante.cc
X-WR-CALDESC:Events for Dante Alighieri Society in Hong Kong
BEGIN:VTIMEZONE
TZID:Asia/Shanghai
BEGIN:STANDARD
TZOFFSETFROM:+0800
TZOFFSETTO:+0800
TZNAME:CST
DTSTART:20220101T000000
END:STANDARD
END:VTIMEZONE
BEGIN:VEVENT
DTSTART;TZID=Asia/Shanghai:20221017T190000
DTEND;TZID=Asia/Shanghai:20221017T203000
DTSTAMP:20260424T165228
CREATED:20221005T035924Z
LAST-MODIFIED:20221005T050429Z
UID:5315-1666033200-1666038600@ladante.cc
SUMMARY:Italian Language & Rap Culture: A Conversation with Roberto He
DESCRIPTION:Born and raised in Rome to Chinese parents\, Roberto He (aka. Maggio) is considered as one of the freshest\, most interesting faces in the Italian emo-rap scene. \nHis lyrics reflect this duality\, around which Maggio has slowly constructed his own social identity. \nOn occasion of the Italian Language Week\, Maggio gives us an example of how the Italian language has been the perfect medium for him to express himself and his creativity as a young contemporary artist. \nTo stay tuned\, join us through our online webinar on the 17th of October 2022 organized in collaboration with the Italian Cultural Institute in Hong Kong!
URL:https://ladante.cc/events/italian-language-rap-culture-a-conversation-with-roberto-he/
LOCATION:Online Webinar
CATEGORIES:Music
END:VEVENT
END:VCALENDAR