BEGIN:VCALENDAR
VERSION:2.0
PRODID:-//Dante Alighieri Society in Hong Kong - ECPv5.5.0//NONSGML v1.0//EN
CALSCALE:GREGORIAN
METHOD:PUBLISH
X-WR-CALNAME:Dante Alighieri Society in Hong Kong
X-ORIGINAL-URL:https://ladante.cc
X-WR-CALDESC:Events for Dante Alighieri Society in Hong Kong
BEGIN:VTIMEZONE
TZID:Asia/Shanghai
BEGIN:STANDARD
TZOFFSETFROM:+0800
TZOFFSETTO:+0800
TZNAME:CST
DTSTART:20180101T000000
END:STANDARD
END:VTIMEZONE
BEGIN:VEVENT
DTSTART;TZID=Asia/Shanghai:20180609T120000
DTEND;TZID=Asia/Shanghai:20180610T200000
DTSTAMP:20260424T230914
CREATED:20180531T051041Z
LAST-MODIFIED:20180531T051041Z
UID:2523-1528545600-1528660800@ladante.cc
SUMMARY:Italian Market 2018 – Summer Edition
DESCRIPTION:The Italian Market 2018 – Summer Edition is back on June 9th and 10th at Cyberport Ocean View Court\, giving you the opportunity to taste\, feel and see authentic products from Italy. This 6th edition will include more exciting booths and selection of items. Join the event to outgrow your network\, enjoy a food cultural experience and discover the many treasures Italy has to offer. Whether you’re a food lover or a shopping addicted\, it’s going to be the perfect occasion to be surrounded by Italian delicacies and handmade fashion items\, but also to make valuable connections and even embark on exciting new business collaborations. \nMark your calendars now and reserve your ticket here. We offer free tickets for our DA students\, please contact us for the promo code. \nCome to visit our Dante Alighieri Society booth and have fun together!!! \nDetails: \nWhen: Saturday 9 June\, 12-8pm & Sunday 10 June\, 12-8pm \nWhere: Cyberport – The Arcade\, Ocean View Court\, 100 Cyberport Road\, Pok Fu Lam
URL:https://ladante.cc/events/italian-market-2018-summer-edition/
LOCATION:Cyberport – The Arcade\, Ocean View Court\, 100 Cyberport Road\, Pok Fu Lam
END:VEVENT
END:VCALENDAR