BEGIN:VCALENDAR
VERSION:2.0
PRODID:-//Dante Alighieri Society in Hong Kong - ECPv5.5.0//NONSGML v1.0//EN
CALSCALE:GREGORIAN
METHOD:PUBLISH
X-WR-CALNAME:Dante Alighieri Society in Hong Kong
X-ORIGINAL-URL:https://ladante.cc
X-WR-CALDESC:Events for Dante Alighieri Society in Hong Kong
BEGIN:VTIMEZONE
TZID:Asia/Shanghai
BEGIN:STANDARD
TZOFFSETFROM:+0800
TZOFFSETTO:+0800
TZNAME:CST
DTSTART:20180101T000000
END:STANDARD
END:VTIMEZONE
BEGIN:VEVENT
DTSTART;TZID=Asia/Shanghai:20180305T190000
DTEND;TZID=Asia/Shanghai:20180305T203000
DTSTAMP:20260421T175936
CREATED:20180222T072057Z
LAST-MODIFIED:20180222T073715Z
UID:2408-1520276400-1520281800@ladante.cc
SUMMARY:Meet Heidi Li
DESCRIPTION:Heidi is a Hong Kong born NeoSoul/Pop/Jazz singer and songwriter who grew up with a Chinese opera background under her parents’ influence. She has been living in Italy for almost 7 years\, where she performs in squares\, music clubs\, radio and TV with local musicians. She has also been active on YouTube\, singing folk songs in different Italian dialects. In October 2016\, she was invited by the Italian Ministry of Foreign Affairs to sing at the States General of the Italian Language in the World. \nShe will talk again @ Dante Alighieri Society on March 5 2018\, about her experience and her journey from Cantonese Opera to Italian Dialects. And her new life back in Hong Kong! \nDon’t miss this chance\, it’s a free event! \nPlease register: https://ladantehk.yapsody.com/event/index/203696/meet-heidi-li
URL:https://ladante.cc/events/meet-heidi-li/
LOCATION:Dante Alighieri Society in Hong Kong\, Room 702\, 7/F Hong Kong Arts Centre\, 2 Harbour Road\, Wanchai\, Hong Kong
ORGANIZER;CN="Dante%20Alighieri%20Society%20in%20Hong%20Kong":MAILTO:dantealighieri@ladante.cc
END:VEVENT
END:VCALENDAR