BEGIN:VCALENDAR
VERSION:2.0
PRODID:-//Dante Alighieri Society in Hong Kong - ECPv5.5.0//NONSGML v1.0//EN
CALSCALE:GREGORIAN
METHOD:PUBLISH
X-WR-CALNAME:Dante Alighieri Society in Hong Kong
X-ORIGINAL-URL:https://ladante.cc
X-WR-CALDESC:Events for Dante Alighieri Society in Hong Kong
BEGIN:VTIMEZONE
TZID:Asia/Shanghai
BEGIN:STANDARD
TZOFFSETFROM:+0800
TZOFFSETTO:+0800
TZNAME:CST
DTSTART:20180101T000000
END:STANDARD
END:VTIMEZONE
BEGIN:VEVENT
DTSTART;TZID=Asia/Shanghai:20180314T190000
DTEND;TZID=Asia/Shanghai:20180314T210000
DTSTAMP:20260423T182245
CREATED:20180222T093746Z
LAST-MODIFIED:20180305T104055Z
UID:2420-1521054000-1521061200@ladante.cc
SUMMARY:Milano da Bere - The city of Aperitivo (Workshop on  Italian Cocktails/Aperitif)
DESCRIPTION:Milano is the city where the Aperitivo Culture is born. \n\nAfter a long day of work\, people get together in an elegant cafe’ or in a cozy bar to have a drink and some snacks before dinner. Aperitivo is becoming a must all over the world\, but it all starts in the most fashionable Italian city. And it has its own tradition behind.\n\n\n \n\n\nDo you know how to make a great Negroni? What “Sbagliato” means? How Campari became one of the most iconic brands in the world?\n\n\n \n\n\nTo answer all these questions\, to know more about the history of the Italian most traditional Cocktails and Aperitif\, and of course… to taste some of them\, come and join our workshop on March 14!\n\n\n \n\n\nGuided by Andrea Motisi\, Bar Supervisor at PICI and Awarded from the Bartender Campari Academy.\n\n\n \n\n\nDon’t miss this opportunity\, Reserve your seat.\n\nSalute!
URL:https://ladante.cc/events/milano-da-bere-the-city-of-aperitivo-workshop-on-italian-cocktailsaperitif/
LOCATION:Dante Alighieri Society in Hong Kong\, Room 702\, 7/F Hong Kong Arts Centre\, 2 Harbour Road\, Wanchai\, Hong Kong
ORGANIZER;CN="Dante%20Alighieri%20Society%20in%20Hong%20Kong":MAILTO:dantealighieri@ladante.cc
END:VEVENT
END:VCALENDAR