BEGIN:VCALENDAR
VERSION:2.0
PRODID:-//Dante Alighieri Society in Hong Kong - ECPv5.5.0//NONSGML v1.0//EN
CALSCALE:GREGORIAN
METHOD:PUBLISH
X-WR-CALNAME:Dante Alighieri Society in Hong Kong
X-ORIGINAL-URL:https://ladante.cc
X-WR-CALDESC:Events for Dante Alighieri Society in Hong Kong
BEGIN:VTIMEZONE
TZID:Asia/Shanghai
BEGIN:STANDARD
TZOFFSETFROM:+0800
TZOFFSETTO:+0800
TZNAME:CST
DTSTART:20180101T000000
END:STANDARD
END:VTIMEZONE
BEGIN:VEVENT
DTSTART;TZID=Asia/Shanghai:20181203T070000
DTEND;TZID=Asia/Shanghai:20181203T210000
DTSTAMP:20260425T184027
CREATED:20181130T060909Z
LAST-MODIFIED:20181130T060909Z
UID:2917-1543820400-1543870800@ladante.cc
SUMMARY:Puccini's Madame Butterfly - Opera Workshop by Peter Gordon & Special Offer
DESCRIPTION:Peter Gordon’s opera workshop is back with one of the most well known Opera of all times! \nIn this session\, we’ll listen to the musical highlights\, look at how Puccini used Japanese and American musical influences and\, for those who do practice a little Italian\, review some of the most revealing lines of the libretto. We’ll also try to understand Butterfly herself. Is she a delicate creature\, deceived and broken like the butterflies she says Westerners stick with a pin to display under glass? Or is she instead of a young woman of substance\, who knows her mind and breaks with tradition fully aware of the possible consequences? \nKnow before you go: Madama Butterfly \nEast tragically meets West in Giacomo Puccini’s most poignant opera. To keep himself amused on a long stopover in Nagasaki\, Lieutenant Benjamin Franklin Pinkerton buys himself a wife and a house\, both on monthly renewable terms. The American Consul warns him that the girl is deeply in love and is taking it all seriously — she even converted to Christianity. Pinkerton waves it off and proposes a drink to the time he gets married “in a proper wedding” to a “real American wife”.  The ceremony is a disaster as Butterfly’s uncle\, a local priest\, curses her for renouncing her traditions. But the first Act ends with one of the most beautiful love duets in opera: maybe\, we think\, Pinkerton loves her after all. Not enough\, apparently\, to change the trajectory of his life and career. Three years after his ship leaves\, she is still waiting — with a small\, blond son he knows nothing about. Pinkerton\, of course\, is returning\, but not alone\, leading to a truly heart-rending ending. \nWorkshop fee: HK$200 (10% off DA members and students) \nSpecial Discount for DA MEMBERS for the upcoming performance of  PUCCINI’S MADAME BUTTERFLY\, produced by Musica Viva in Hong Kong on 7-9 Dec 2018:\n35% off on ticket price\nPlease send an email to dantealghieri@ladante.cc and specify your:\nname\, members number\, number of tickets\, type of tickets and contact details.\nWe look forward to meeting you soon!
URL:https://ladante.cc/events/puccinis-madame-butterfly-opera-workshop-by-peter-gordon-special-offer/
LOCATION:Dante Alighieri Society in Hong Kong\, Room 702\, 7/F Hong Kong Arts Centre\, 2 Harbour Road\, Wanchai\, Hong Kong
ATTACH;FMTTYPE=image/jpeg:https://ladante.cc/wp-content/uploads/2018/11/Opera-Workshop-Final.jpg
ORGANIZER;CN="Dante%20Alighieri%20Society%20in%20Hong%20Kong":MAILTO:dantealighieri@ladante.cc
END:VEVENT
END:VCALENDAR